BEGIN:VCALENDAR
VERSION:2.0
PRODID:-//JCCWilliamsburg Master Gardener Association - ECPv6.15.20//NONSGML v1.0//EN
CALSCALE:GREGORIAN
METHOD:PUBLISH
X-WR-CALNAME:JCCWilliamsburg Master Gardener Association
X-ORIGINAL-URL:https://jccwmg.org/wordpress
X-WR-CALDESC:Events for JCCWilliamsburg Master Gardener Association
REFRESH-INTERVAL;VALUE=DURATION:PT1H
X-Robots-Tag:noindex
X-PUBLISHED-TTL:PT1H
BEGIN:VTIMEZONE
TZID:America/New_York
BEGIN:DAYLIGHT
TZOFFSETFROM:-0500
TZOFFSETTO:-0400
TZNAME:EDT
DTSTART:20230312T070000
END:DAYLIGHT
BEGIN:STANDARD
TZOFFSETFROM:-0400
TZOFFSETTO:-0500
TZNAME:EST
DTSTART:20231105T060000
END:STANDARD
BEGIN:DAYLIGHT
TZOFFSETFROM:-0500
TZOFFSETTO:-0400
TZNAME:EDT
DTSTART:20240310T070000
END:DAYLIGHT
BEGIN:STANDARD
TZOFFSETFROM:-0400
TZOFFSETTO:-0500
TZNAME:EST
DTSTART:20241103T060000
END:STANDARD
BEGIN:DAYLIGHT
TZOFFSETFROM:-0500
TZOFFSETTO:-0400
TZNAME:EDT
DTSTART:20250309T070000
END:DAYLIGHT
BEGIN:STANDARD
TZOFFSETFROM:-0400
TZOFFSETTO:-0500
TZNAME:EST
DTSTART:20251102T060000
END:STANDARD
END:VTIMEZONE
BEGIN:VEVENT
DTSTART;TZID=America/New_York:20241019T100000
DTEND;TZID=America/New_York:20241019T100000
DTSTAMP:20260423T204730
CREATED:20241020T231946Z
LAST-MODIFIED:20241020T231947Z
UID:16179-1729332000-1729332000@jccwmg.org
SUMMARY:Becoming a Master Gardener Information Meeting
DESCRIPTION:Are you interested in becoming a James City County Williamsburg Extension Master Gardener\, or are you looking for more information on becoming an Extension Master Garder? \nPlease join us for an informational presentation on October 19\, 2024\, at 10:00 am at the Stryker Center at 412 N. Boundary Street in Williamsburg to hear more about our Master Gardener program or how to apply for the 2025 Master Gardener Training Class.  See the Flyer below for more information. \nWe are looking forward to seeing and talking with you!  Click Here for more information…
URL:https://jccwmg.org/wordpress/event/becoming-a-master-gardener-information-meeting-2/
LOCATION:Stryker Building\, Stryker Center\, 412 N. Boundary Street\, Williamsburg
ATTACH;FMTTYPE=image/jpeg:https://jccwmg.org/wordpress/wp-content/uploads/2023/09/Certification-Training-2-2020-rotated.webp
ORGANIZER;CN="JCCWMGA Training Team":MAILTO:training@jccwmg.org
END:VEVENT
END:VCALENDAR