BEGIN:VCALENDAR
VERSION:2.0
PRODID:-//JCCWilliamsburg Master Gardener Association - ECPv6.15.20//NONSGML v1.0//EN
CALSCALE:GREGORIAN
METHOD:PUBLISH
X-ORIGINAL-URL:https://jccwmg.org/wordpress
X-WR-CALDESC:Events for JCCWilliamsburg Master Gardener Association
REFRESH-INTERVAL;VALUE=DURATION:PT1H
X-Robots-Tag:noindex
X-PUBLISHED-TTL:PT1H
BEGIN:VTIMEZONE
TZID:America/New_York
BEGIN:DAYLIGHT
TZOFFSETFROM:-0500
TZOFFSETTO:-0400
TZNAME:EDT
DTSTART:20230312T070000
END:DAYLIGHT
BEGIN:STANDARD
TZOFFSETFROM:-0400
TZOFFSETTO:-0500
TZNAME:EST
DTSTART:20231105T060000
END:STANDARD
BEGIN:DAYLIGHT
TZOFFSETFROM:-0500
TZOFFSETTO:-0400
TZNAME:EDT
DTSTART:20240310T070000
END:DAYLIGHT
BEGIN:STANDARD
TZOFFSETFROM:-0400
TZOFFSETTO:-0500
TZNAME:EST
DTSTART:20241103T060000
END:STANDARD
BEGIN:DAYLIGHT
TZOFFSETFROM:-0500
TZOFFSETTO:-0400
TZNAME:EDT
DTSTART:20250309T070000
END:DAYLIGHT
BEGIN:STANDARD
TZOFFSETFROM:-0400
TZOFFSETTO:-0500
TZNAME:EST
DTSTART:20251102T060000
END:STANDARD
END:VTIMEZONE
BEGIN:VEVENT
DTSTART;TZID=America/New_York:20241020T153000
DTEND;TZID=America/New_York:20241020T173000
DTSTAMP:20260423T204812
CREATED:20241018T173833Z
LAST-MODIFIED:20241020T154844Z
UID:16139-1729438200-1729445400@jccwmg.org
SUMMARY:JCC 4-H Open House
DESCRIPTION:Virginia Cooperative Extension – James City County invites you to attend our JCC 4-H Open House event on Sunday\, October 20th\, at the James City County Recreation Center at 5301 Longhill Rd\, Williamsburg\, VA 23188 from 3:30pm-5:30pm. \n\nCome meet your Clover Community of 4-H members and volunteers!\n\nFor more information\, click the Event Link below:\n\nEvent Link: James City County 4-H – JCC 4-H Front Page News \n\n\n\nWhat:  4-H Open House event\nDate:  20 October\, 2024\, Sunday\nTime:  3:30 – 5:30 pm\nLocation: James City County Recreation Center\n                  5301 Longhill Rd\, Williamsburg\, VA 23188
URL:https://jccwmg.org/wordpress/event/jcc-4-h-open-house/
LOCATION:JCC Recreational Center (Longhill)\, 5301 Longhill Rd\, Williamsburg\, VA\, 23188
ATTACH;FMTTYPE=image/jpeg:https://jccwmg.org/wordpress/wp-content/uploads/2024/10/4h-logo.jpg
END:VEVENT
END:VCALENDAR