BEGIN:VCALENDAR
VERSION:2.0
PRODID:-//JCCWilliamsburg Master Gardener Association - ECPv6.15.20//NONSGML v1.0//EN
CALSCALE:GREGORIAN
METHOD:PUBLISH
X-WR-CALNAME:JCCWilliamsburg Master Gardener Association
X-ORIGINAL-URL:https://jccwmg.org/wordpress
X-WR-CALDESC:Events for JCCWilliamsburg Master Gardener Association
REFRESH-INTERVAL;VALUE=DURATION:PT1H
X-Robots-Tag:noindex
X-PUBLISHED-TTL:PT1H
BEGIN:VTIMEZONE
TZID:America/New_York
BEGIN:DAYLIGHT
TZOFFSETFROM:-0500
TZOFFSETTO:-0400
TZNAME:EDT
DTSTART:20230312T070000
END:DAYLIGHT
BEGIN:STANDARD
TZOFFSETFROM:-0400
TZOFFSETTO:-0500
TZNAME:EST
DTSTART:20231105T060000
END:STANDARD
BEGIN:DAYLIGHT
TZOFFSETFROM:-0500
TZOFFSETTO:-0400
TZNAME:EDT
DTSTART:20240310T070000
END:DAYLIGHT
BEGIN:STANDARD
TZOFFSETFROM:-0400
TZOFFSETTO:-0500
TZNAME:EST
DTSTART:20241103T060000
END:STANDARD
BEGIN:DAYLIGHT
TZOFFSETFROM:-0500
TZOFFSETTO:-0400
TZNAME:EDT
DTSTART:20250309T070000
END:DAYLIGHT
BEGIN:STANDARD
TZOFFSETFROM:-0400
TZOFFSETTO:-0500
TZNAME:EST
DTSTART:20251102T060000
END:STANDARD
END:VTIMEZONE
BEGIN:VEVENT
DTSTART;TZID=America/New_York:20241205T090000
DTEND;TZID=America/New_York:20241205T100000
DTSTAMP:20260423T175550
CREATED:20241112T014308Z
LAST-MODIFIED:20241113T004949Z
UID:16577-1733389200-1733392800@jccwmg.org
SUMMARY:JCCWMGA Class of 2024 Graduation
DESCRIPTION:— MASTER GARDENERS\, FAMILY AND FRIENDS — \nJCCWMGA will conduct a graduation ceremony for the Master Gardener Class of 2024.  21 new Master Gardeners will be honored at a formal graduation ceremony at the Williamsburg Regional Library.  Following the ceremony\, there will be a reception with light refreshments at the Stryker Center for the new Master Gardeners\, their family and friends\, and Association Master Gardeners to congratulate our latest Master Gardener Graduates. \nJanet Spencer\, South East District Director with Virginia Cooperative Extension\, will be the graduation speaker.
URL:https://jccwmg.org/wordpress/event/jccwmga-class-of-2024-graduation/
LOCATION:Williamsburg Regional Library (WRL)\, 515 Scotland St\, WILLIAMSBURG\, VA\, 23185
ATTACH;FMTTYPE=image/jpeg:https://jccwmg.org/wordpress/wp-content/uploads/2024/11/2024-MG-Class-photo.jpg
END:VEVENT
END:VCALENDAR