BEGIN:VCALENDAR
VERSION:2.0
PRODID:-//JCCWilliamsburg Master Gardener Association - ECPv6.15.20//NONSGML v1.0//EN
CALSCALE:GREGORIAN
METHOD:PUBLISH
X-WR-CALNAME:JCCWilliamsburg Master Gardener Association
X-ORIGINAL-URL:https://jccwmg.org/wordpress
X-WR-CALDESC:Events for JCCWilliamsburg Master Gardener Association
REFRESH-INTERVAL;VALUE=DURATION:PT1H
X-Robots-Tag:noindex
X-PUBLISHED-TTL:PT1H
BEGIN:VTIMEZONE
TZID:America/New_York
BEGIN:DAYLIGHT
TZOFFSETFROM:-0500
TZOFFSETTO:-0400
TZNAME:EDT
DTSTART:20240310T070000
END:DAYLIGHT
BEGIN:STANDARD
TZOFFSETFROM:-0400
TZOFFSETTO:-0500
TZNAME:EST
DTSTART:20241103T060000
END:STANDARD
BEGIN:DAYLIGHT
TZOFFSETFROM:-0500
TZOFFSETTO:-0400
TZNAME:EDT
DTSTART:20250309T070000
END:DAYLIGHT
BEGIN:STANDARD
TZOFFSETFROM:-0400
TZOFFSETTO:-0500
TZNAME:EST
DTSTART:20251102T060000
END:STANDARD
BEGIN:DAYLIGHT
TZOFFSETFROM:-0500
TZOFFSETTO:-0400
TZNAME:EDT
DTSTART:20260308T070000
END:DAYLIGHT
BEGIN:STANDARD
TZOFFSETFROM:-0400
TZOFFSETTO:-0500
TZNAME:EST
DTSTART:20261101T060000
END:STANDARD
END:VTIMEZONE
BEGIN:VEVENT
DTSTART;TZID=America/New_York:20250606T093000
DTEND;TZID=America/New_York:20250606T113000
DTSTAMP:20260423T094209
CREATED:20250523T163144Z
LAST-MODIFIED:20250523T163144Z
UID:18760-1749202200-1749209400@jccwmg.org
SUMMARY:Let’s Plant Wonderful Tasty Herbs!
DESCRIPTION:Let’s Plant Wonderful Tasty Herbs!\n\n\nLearn how to start an herb garden of your own. There are so many possibilities: pizza garden\, culinary herb garden\, healing garden\, tea garden\, cocktail garden\, or even a container garden on your deck. Have fun learning how to plant and use these tasty and helpful plants.\n\nMaster Gardeners and Master Naturalists will be on hand to answer your questions and provide information on growing a herb garden.\n\n\nThere will be a special presentation by JoAnne Terrell\, from the Herb Society of America\, Colonial Triangle of Virginia Unit\, at 10:00 am\, Kitzinger Room\, James City County Library\,
URL:https://jccwmg.org/wordpress/event/lets-plant-wonderful-tasty-herbs/
LOCATION:James CIty County Library (Croaker)\, 7770 Croaker Rd\, Williamsburg\, VA\, 23188
ATTACH;FMTTYPE=image/jpeg:https://jccwmg.org/wordpress/wp-content/uploads/2025/05/Basil-plants.jpg
END:VEVENT
END:VCALENDAR