BEGIN:VCALENDAR
VERSION:2.0
PRODID:-//JCCWilliamsburg Master Gardener Association - ECPv6.15.20//NONSGML v1.0//EN
CALSCALE:GREGORIAN
METHOD:PUBLISH
X-WR-CALNAME:JCCWilliamsburg Master Gardener Association
X-ORIGINAL-URL:https://jccwmg.org/wordpress
X-WR-CALDESC:Events for JCCWilliamsburg Master Gardener Association
REFRESH-INTERVAL;VALUE=DURATION:PT1H
X-Robots-Tag:noindex
X-PUBLISHED-TTL:PT1H
BEGIN:VTIMEZONE
TZID:America/New_York
BEGIN:DAYLIGHT
TZOFFSETFROM:-0500
TZOFFSETTO:-0400
TZNAME:EDT
DTSTART:20240310T070000
END:DAYLIGHT
BEGIN:STANDARD
TZOFFSETFROM:-0400
TZOFFSETTO:-0500
TZNAME:EST
DTSTART:20241103T060000
END:STANDARD
BEGIN:DAYLIGHT
TZOFFSETFROM:-0500
TZOFFSETTO:-0400
TZNAME:EDT
DTSTART:20250309T070000
END:DAYLIGHT
BEGIN:STANDARD
TZOFFSETFROM:-0400
TZOFFSETTO:-0500
TZNAME:EST
DTSTART:20251102T060000
END:STANDARD
BEGIN:DAYLIGHT
TZOFFSETFROM:-0500
TZOFFSETTO:-0400
TZNAME:EDT
DTSTART:20260308T070000
END:DAYLIGHT
BEGIN:STANDARD
TZOFFSETFROM:-0400
TZOFFSETTO:-0500
TZNAME:EST
DTSTART:20261101T060000
END:STANDARD
END:VTIMEZONE
BEGIN:VEVENT
DTSTART;TZID=America/New_York:20250620T090000
DTEND;TZID=America/New_York:20250620T230000
DTSTAMP:20260423T093754
CREATED:20250223T161812Z
LAST-MODIFIED:20250523T155449Z
UID:18006-1750410000-1750460400@jccwmg.org
SUMMARY:Pollinator Palooza (Longest Day of Play!)
DESCRIPTION: A Fun-Filled Learning Experience for the Whole Family!\nAre you looking for an engaging and educational event to spark your child’s curiosity and excitement? Pollinator Palooza is perfect for combining fun\, hands-on activities with meaningful learning! Join us on Friday\, June 20th\, from 9:00–11:00 AM at Veterans Park (3793 Ironbound Road)\, next to the Pollinator Garden\, as part of James City County’s Longest Day at Play. \nClick here for more information. 
URL:https://jccwmg.org/wordpress/event/pollinator-palooza-june-2025/
LOCATION:Veterans Park/Kidsburg\, 3793 Ironbound Road\, WILLIAMSBURG\, VA\, 23188\, United States
ATTACH;FMTTYPE=image/jpeg:https://jccwmg.org/wordpress/wp-content/uploads/2025/05/PollinatorPalooza2025-flyer-e1747844655757.jpg
END:VEVENT
END:VCALENDAR