BEGIN:VCALENDAR
VERSION:2.0
PRODID:-//JCCWilliamsburg Master Gardener Association - ECPv6.15.20//NONSGML v1.0//EN
CALSCALE:GREGORIAN
METHOD:PUBLISH
X-ORIGINAL-URL:https://jccwmg.org/wordpress
X-WR-CALDESC:Events for JCCWilliamsburg Master Gardener Association
REFRESH-INTERVAL;VALUE=DURATION:PT1H
X-Robots-Tag:noindex
X-PUBLISHED-TTL:PT1H
BEGIN:VTIMEZONE
TZID:America/New_York
BEGIN:DAYLIGHT
TZOFFSETFROM:-0500
TZOFFSETTO:-0400
TZNAME:EDT
DTSTART:20240310T070000
END:DAYLIGHT
BEGIN:STANDARD
TZOFFSETFROM:-0400
TZOFFSETTO:-0500
TZNAME:EST
DTSTART:20241103T060000
END:STANDARD
BEGIN:DAYLIGHT
TZOFFSETFROM:-0500
TZOFFSETTO:-0400
TZNAME:EDT
DTSTART:20250309T070000
END:DAYLIGHT
BEGIN:STANDARD
TZOFFSETFROM:-0400
TZOFFSETTO:-0500
TZNAME:EST
DTSTART:20251102T060000
END:STANDARD
BEGIN:DAYLIGHT
TZOFFSETFROM:-0500
TZOFFSETTO:-0400
TZNAME:EDT
DTSTART:20260308T070000
END:DAYLIGHT
BEGIN:STANDARD
TZOFFSETFROM:-0400
TZOFFSETTO:-0500
TZNAME:EST
DTSTART:20261101T060000
END:STANDARD
END:VTIMEZONE
BEGIN:VEVENT
DTSTART;TZID=America/New_York:20250910T183000
DTEND;TZID=America/New_York:20250910T193000
DTSTAMP:20260423T053642
CREATED:20250820T164226Z
LAST-MODIFIED:20250820T164226Z
UID:19318-1757529000-1757532600@jccwmg.org
SUMMARY:Introduction to Native Plants (ages 18+)
DESCRIPTION:Interested in adding native plants to your landscape? Fall is a great time to plant perennials\, and winter is when you can sow seeds. Come learn about some of the wonderful plants that are native to our area and look at small gardens that have been both planted and seeded. These gardens naturally increase the activity of pollinators in your yard.  \nPresenter:  Judy Kinshaw-Ellis – Master Naturalist/Master Gardener\nLocation:   Freedom Park Interpretive Center\nDate: September 10\, 2025\nTime: 6:30-7:3-p.m.\nNo registration required. \nSponsored by the James City County Parks and Recreation
URL:https://jccwmg.org/wordpress/event/introduction-to-native-plants-ages-18/
LOCATION:Freedom Park\, 5537 Centerville Rd\, Williamsburg\, Va\, 23188
ATTACH;FMTTYPE=image/jpeg:https://jccwmg.org/wordpress/wp-content/uploads/2022/06/Monarch-on-milkweed-390.jpg
END:VEVENT
END:VCALENDAR