BEGIN:VCALENDAR
VERSION:2.0
PRODID:-//JCCWilliamsburg Master Gardener Association - ECPv6.15.20//NONSGML v1.0//EN
CALSCALE:GREGORIAN
METHOD:PUBLISH
X-WR-CALNAME:JCCWilliamsburg Master Gardener Association
X-ORIGINAL-URL:https://jccwmg.org/wordpress
X-WR-CALDESC:Events for JCCWilliamsburg Master Gardener Association
REFRESH-INTERVAL;VALUE=DURATION:PT1H
X-Robots-Tag:noindex
X-PUBLISHED-TTL:PT1H
BEGIN:VTIMEZONE
TZID:America/New_York
BEGIN:DAYLIGHT
TZOFFSETFROM:-0500
TZOFFSETTO:-0400
TZNAME:EDT
DTSTART:20250309T070000
END:DAYLIGHT
BEGIN:STANDARD
TZOFFSETFROM:-0400
TZOFFSETTO:-0500
TZNAME:EST
DTSTART:20251102T060000
END:STANDARD
BEGIN:DAYLIGHT
TZOFFSETFROM:-0500
TZOFFSETTO:-0400
TZNAME:EDT
DTSTART:20260308T070000
END:DAYLIGHT
BEGIN:STANDARD
TZOFFSETFROM:-0400
TZOFFSETTO:-0500
TZNAME:EST
DTSTART:20261101T060000
END:STANDARD
BEGIN:DAYLIGHT
TZOFFSETFROM:-0500
TZOFFSETTO:-0400
TZNAME:EDT
DTSTART:20270314T070000
END:DAYLIGHT
BEGIN:STANDARD
TZOFFSETFROM:-0400
TZOFFSETTO:-0500
TZNAME:EST
DTSTART:20271107T060000
END:STANDARD
END:VTIMEZONE
BEGIN:VEVENT
DTSTART;TZID=America/New_York:20260425T090000
DTEND;TZID=America/New_York:20260425T090000
DTSTAMP:20260422T175744
CREATED:20260308T162715Z
LAST-MODIFIED:20260308T164704Z
UID:20853-1777107600-1777107600@jccwmg.org
SUMMARY:“Ask A Master Gardener” at the Toano Open Air Market
DESCRIPTION:Master Gardeners from the James City County Williamsburg Master Gardeners (JCCWMGA) will be available at the Toano Open Air Market to answer your gardening\, yard\, and landscaping questions. Look for our Master Gardener tent and display to find solutions to your gardening challenges\, or stop by to learn more about becoming an Extension Master Gardener. We will hand out stickers to all the young\, future master gardeners.
URL:https://jccwmg.org/wordpress/event/ask-a-master-gardener-at-the-toano-open-air-market/
LOCATION:Toano Open Air Market (TOAM)\, 7891 Richmond Road\, Toano\, VA
CATEGORIES:Farmer's Market & Outreach,Toano Open Air Market,Williamsburg Farmers Market
END:VEVENT
BEGIN:VEVENT
DTSTART;TZID=America/New_York:20260502T080000
DTEND;TZID=America/New_York:20260502T120000
DTSTAMP:20260422T175744
CREATED:20260308T165100Z
LAST-MODIFIED:20260308T165100Z
UID:20860-1777708800-1777723200@jccwmg.org
SUMMARY:“Ask A Master Gardener” at the Williamsburg Farmer’s Market
DESCRIPTION:Master Gardeners from the James City County Williamsburg Master Gardeners (JCCWMGA) will be available at the Williamsburg Farmer’s Market to answer your gardening\, yard\, and landscaping questions. Look for our Master Gardener tent and display to find solutions to your gardening challenges\, or stop by to learn more about becoming an Extension Master Gardener. We will hand out stickers to all the young\, future master gardeners.
URL:https://jccwmg.org/wordpress/event/ask-a-master-gardener-at-the-williamsburg-farmers-market-2/
LOCATION:Williamsburg Farmers Market\, 345 W Duke of Gloucester St\, Williamsburg\, 23185
CATEGORIES:Farmer's Market & Outreach,Williamsburg Farmers Market
ATTACH;FMTTYPE=image/jpeg:https://jccwmg.org/wordpress/wp-content/uploads/2025/09/Williamsburg-Farmers-Market-2025.jpg
END:VEVENT
BEGIN:VEVENT
DTSTART;TZID=America/New_York:20260509T090000
DTEND;TZID=America/New_York:20260509T120000
DTSTAMP:20260422T175744
CREATED:20260219T200037Z
LAST-MODIFIED:20260308T163011Z
UID:20628-1778317200-1778328000@jccwmg.org
SUMMARY:JCCWMG Annual Plant Sale
DESCRIPTION:James City County Williamsburg Master Gardener Association (JCCWMGA) invites you to our plant sale on Saturday\, May 9\, from 9 a.m. to 12 p.m. at the Williamsburg Botanical Garden (WBG) located within Freedom Park at 5537 Centerville Road\, Williamsburg\, VA 23188.  Free parking is available onsite. \nThe sale offers a broad selection of plants\, including annuals\, perennials\, vegetables\, herbs\, trees\, and shrubs. Much of the plant stock has been raised by our local Master Gardeners. Our Master Gardeners will be available to answer your plant and gardening questions. \nVisit our website for more information about our plant sale.
URL:https://jccwmg.org/wordpress/event/jccwmg-annual-plant-sale/
LOCATION:Freedom Park\, 5537 Centerville Rd\, Williamsburg\, Va\, 23188
CATEGORIES:Annual Plant Sale,New Kent County Farmers Market
ATTACH;FMTTYPE=image/jpeg:https://jccwmg.org/wordpress/wp-content/uploads/2026/01/Plant-Sale-mainstreet.jpg
END:VEVENT
END:VCALENDAR