BEGIN:VCALENDAR
VERSION:2.0
PRODID:-//JCCWilliamsburg Master Gardener Association - ECPv6.15.20//NONSGML v1.0//EN
CALSCALE:GREGORIAN
METHOD:PUBLISH
X-ORIGINAL-URL:https://jccwmg.org/wordpress
X-WR-CALDESC:Events for JCCWilliamsburg Master Gardener Association
REFRESH-INTERVAL;VALUE=DURATION:PT1H
X-Robots-Tag:noindex
X-PUBLISHED-TTL:PT1H
BEGIN:VTIMEZONE
TZID:America/New_York
BEGIN:DAYLIGHT
TZOFFSETFROM:-0500
TZOFFSETTO:-0400
TZNAME:EDT
DTSTART:20250309T070000
END:DAYLIGHT
BEGIN:STANDARD
TZOFFSETFROM:-0400
TZOFFSETTO:-0500
TZNAME:EST
DTSTART:20251102T060000
END:STANDARD
BEGIN:DAYLIGHT
TZOFFSETFROM:-0500
TZOFFSETTO:-0400
TZNAME:EDT
DTSTART:20260308T070000
END:DAYLIGHT
BEGIN:STANDARD
TZOFFSETFROM:-0400
TZOFFSETTO:-0500
TZNAME:EST
DTSTART:20261101T060000
END:STANDARD
BEGIN:DAYLIGHT
TZOFFSETFROM:-0500
TZOFFSETTO:-0400
TZNAME:EDT
DTSTART:20270314T070000
END:DAYLIGHT
BEGIN:STANDARD
TZOFFSETFROM:-0400
TZOFFSETTO:-0500
TZNAME:EST
DTSTART:20271107T060000
END:STANDARD
END:VTIMEZONE
BEGIN:VEVENT
DTSTART;TZID=America/New_York:20260321T080000
DTEND;TZID=America/New_York:20260321T120000
DTSTAMP:20260423T054118
CREATED:20260301T153713Z
LAST-MODIFIED:20260308T163442Z
UID:20802-1774080000-1774094400@jccwmg.org
SUMMARY:“Ask A Master Gardener” Williamsburg Farmer’s Market
DESCRIPTION:345 W Duke of Gloucester St\, Williamsburg\, VA 23185\nExtension Master Gardeners from the James City County Williamsburg Master Gardeners Association (JCCWMGA) will be available at the Williamsburg Farmer’s Market to answer your gardening\, yard\, and landscaping questions. Look for our Master Gardener tent and display to find answers to your perplexing gardening problems\, or stop by to learn more about becoming an Extension Master Gardener. We will hand out stickers to all the young\, future master gardeners. \nGarden Focus Topic:  Starting A Vegetable Garden\nExtension Master Gardener\, Scott Wolz\, will be available from 8:00 – 11:00 am to talk to you and answer your questions about starting a vegetable garden in your backyard.
URL:https://jccwmg.org/wordpress/event/ask-a-master-gardener-williamsburg-farmers-market/
LOCATION:Williamsburg Farmers Market\, 345 W Duke of Gloucester St\, Williamsburg\, 23185
CATEGORIES:Farmer's Market & Outreach,Williamsburg Farmers Market
ATTACH;FMTTYPE=image/jpeg:https://jccwmg.org/wordpress/wp-content/uploads/2026/03/Scott-start-a-garden-poster-2026.jpeg
END:VEVENT
BEGIN:VEVENT
DTSTART;TZID=America/New_York:20260321T110000
DTEND;TZID=America/New_York:20260321T150000
DTSTAMP:20260423T054118
CREATED:20260222T160521Z
LAST-MODIFIED:20260310T150638Z
UID:20672-1774090800-1774105200@jccwmg.org
SUMMARY:New Kent Bug Event - 2026
DESCRIPTION:The New Kent Cooperative Extension Office brings you the New Kent Bug Event for 2026\, a festive opportunity to learn more about the diverse and wonderful world of insects through educational booths\, activities\, and a hands-on environment.\n\nThey will be joined by local organizations and specialists who will offer engaging activities and insightful information on anything and everything to do with bugs! An event for all ages\, there will be plenty to learn and enjoy!\n\nThis event will bring youth members\, volunteers\, and the broader community together to emphasize learning\, awareness\, and community involvement. The James City/Williamsburg Master Gardeners will have an “Ask A Master Gardener” booth to answer all your garden questions.\n\nPlease join them on March 21st at the New Kent Historic School Parks and Recreation Gym for the New Kent Bug Event\, and crawl your way into the world of insects!”\n\nFor more information about the event\, please visit their Facebook Page at: https://www.facebook.com/events/s/the-new-kent-bug-event/1496463232047261/
URL:https://jccwmg.org/wordpress/event/new-kent-bug-event-2026/
LOCATION:New Kent Historic School Parks and Recreation Gym\, 11819 New Kent Highway\, New Kent\, VA\, 23124\, United States
CATEGORIES:Bug Fest,Community Event,Insects
ATTACH;FMTTYPE=image/png:https://jccwmg.org/wordpress/wp-content/uploads/2026/02/NKBugEvent-LadyBug-1.png
END:VEVENT
BEGIN:VEVENT
DTSTART;TZID=America/New_York:20260328T080000
DTEND;TZID=America/New_York:20260328T120000
DTSTAMP:20260423T054118
CREATED:20260308T163137Z
LAST-MODIFIED:20260308T163521Z
UID:20804-1774684800-1774699200@jccwmg.org
SUMMARY:“Ask A Master Gardener” at the Williamsburg Farmer’s Market
DESCRIPTION:Master Gardeners from the James City County Williamsburg Master Gardeners (JCCWMGA) will be available at the Williamsburg Farmer’s Market to answer your gardening\, yard\, and landscaping questions. Look for our Master Gardener tent and display to find solutions to your gardening challenges\, or stop by to learn more about becoming an Extension Master Gardener. We will hand out stickers to all the young\, future master gardeners.
URL:https://jccwmg.org/wordpress/event/ask-a-master-gardener-at-the-williamsburg-farmers-market-3/
LOCATION:Williamsburg Farmers Market\, 345 W Duke of Gloucester St\, Williamsburg\, 23185
CATEGORIES:Farmer's Market & Outreach,Williamsburg Farmers Market
ATTACH;FMTTYPE=image/jpeg:https://jccwmg.org/wordpress/wp-content/uploads/2025/09/Williamsburg-Farmers-Market-2025.jpg
END:VEVENT
BEGIN:VEVENT
DTSTART;TZID=America/New_York:20260404T080000
DTEND;TZID=America/New_York:20260404T120000
DTSTAMP:20260423T054118
CREATED:20260301T155237Z
LAST-MODIFIED:20260308T163644Z
UID:20807-1775289600-1775304000@jccwmg.org
SUMMARY:“Ask A Master Gardener” at the Williamsburg Farmers Market
DESCRIPTION:Master Gardeners from the James City County Williamsburg Master Gardeners (JCCWMGA) will be at the Williamsburg Farmer’s Market to answer your gardening\, yard\, and landscaping questions. Look for our Master Gardener tent and display to get help with your gardening challenges or stop by to learn more about becoming an Extension Master Gardener. We will also hand out stickers to all the young\, future master gardeners. \nStop by and visit us while you are out shopping your favorite market vendor. \n 
URL:https://jccwmg.org/wordpress/event/ask-a-master-gardener-williamsburg-farmers-market-5/
LOCATION:Williamsburg Farmers Market\, 345 W Duke of Gloucester St\, Williamsburg\, 23185
CATEGORIES:Farmer's Market & Outreach,Williamsburg Farmers Market
ATTACH;FMTTYPE=image/jpeg:https://jccwmg.org/wordpress/wp-content/uploads/2025/09/Williamsburg-Farmers-Market-2025.jpg
END:VEVENT
BEGIN:VEVENT
DTSTART;TZID=America/New_York:20260411T080000
DTEND;TZID=America/New_York:20260411T120000
DTSTAMP:20260423T054118
CREATED:20260308T161056Z
LAST-MODIFIED:20260308T163628Z
UID:20844-1775894400-1775908800@jccwmg.org
SUMMARY:“Ask A Master Gardener” at the Williamsburg Farmer’s Market
DESCRIPTION:345 W Duke of Gloucester St\, Williamsburg\, VA 23185\nMaster Gardeners from the James City County Williamsburg Master Gardeners (JCCWMGA) will be available at the Williamsburg Farmer’s Market to answer your gardening\, yard\, and landscaping questions. Look for our Master Gardener tent and display to find answers to your perplexing gardening problems\, or stop by to learn more about becoming an Extension Master Gardener. We will hand out stickers to all the young\, future master gardeners. \n  \n 
URL:https://jccwmg.org/wordpress/event/ask-a-master-gardener-williamsburg-farmers-market-4/
LOCATION:Williamsburg Farmers Market\, 345 W Duke of Gloucester St\, Williamsburg\, 23185
CATEGORIES:Farmer's Market & Outreach,Williamsburg Farmers Market
ATTACH;FMTTYPE=image/jpeg:https://jccwmg.org/wordpress/wp-content/uploads/2025/09/Williamsburg-Farmers-Market-2025.jpg
END:VEVENT
BEGIN:VEVENT
DTSTART;TZID=America/New_York:20260418T080000
DTEND;TZID=America/New_York:20260418T170000
DTSTAMP:20260423T054118
CREATED:20260308T162501Z
LAST-MODIFIED:20260308T162501Z
UID:20851-1776499200-1776531600@jccwmg.org
SUMMARY:“Ask A Master Gardener” at the Williamsburg Farmer’s Market
DESCRIPTION:Master Gardeners from the James City County Williamsburg Master Gardeners (JCCWMGA) will be available at the Williamsburg Farmer’s Market to answer your gardening\, yard\, and landscaping questions. Look for our Master Gardener tent and display to find solutions to your gardening challenges\, or stop by to learn more about becoming an Extension Master Gardener. We will hand out stickers to all the young\, future master gardeners.
URL:https://jccwmg.org/wordpress/event/ask-a-master-gardener-at-the-williamsburg-farmers-market/
LOCATION:Williamsburg Farmers Market\, 345 W Duke of Gloucester St\, Williamsburg\, 23185
CATEGORIES:Farmer's Market & Outreach,Williamsburg Farmers Market
ATTACH;FMTTYPE=image/jpeg:https://jccwmg.org/wordpress/wp-content/uploads/2025/09/Williamsburg-Farmers-Market-2025.jpg
END:VEVENT
BEGIN:VEVENT
DTSTART;TZID=America/New_York:20260425T090000
DTEND;TZID=America/New_York:20260425T090000
DTSTAMP:20260423T054118
CREATED:20260308T162715Z
LAST-MODIFIED:20260308T164704Z
UID:20853-1777107600-1777107600@jccwmg.org
SUMMARY:“Ask A Master Gardener” at the Toano Open Air Market
DESCRIPTION:Master Gardeners from the James City County Williamsburg Master Gardeners (JCCWMGA) will be available at the Toano Open Air Market to answer your gardening\, yard\, and landscaping questions. Look for our Master Gardener tent and display to find solutions to your gardening challenges\, or stop by to learn more about becoming an Extension Master Gardener. We will hand out stickers to all the young\, future master gardeners.
URL:https://jccwmg.org/wordpress/event/ask-a-master-gardener-at-the-toano-open-air-market/
LOCATION:Toano Open Air Market (TOAM)\, 7891 Richmond Road\, Toano\, VA
CATEGORIES:Farmer's Market & Outreach,Toano Open Air Market,Williamsburg Farmers Market
END:VEVENT
BEGIN:VEVENT
DTSTART;TZID=America/New_York:20260502T080000
DTEND;TZID=America/New_York:20260502T120000
DTSTAMP:20260423T054119
CREATED:20260308T165100Z
LAST-MODIFIED:20260308T165100Z
UID:20860-1777708800-1777723200@jccwmg.org
SUMMARY:“Ask A Master Gardener” at the Williamsburg Farmer’s Market
DESCRIPTION:Master Gardeners from the James City County Williamsburg Master Gardeners (JCCWMGA) will be available at the Williamsburg Farmer’s Market to answer your gardening\, yard\, and landscaping questions. Look for our Master Gardener tent and display to find solutions to your gardening challenges\, or stop by to learn more about becoming an Extension Master Gardener. We will hand out stickers to all the young\, future master gardeners.
URL:https://jccwmg.org/wordpress/event/ask-a-master-gardener-at-the-williamsburg-farmers-market-2/
LOCATION:Williamsburg Farmers Market\, 345 W Duke of Gloucester St\, Williamsburg\, 23185
CATEGORIES:Farmer's Market & Outreach,Williamsburg Farmers Market
ATTACH;FMTTYPE=image/jpeg:https://jccwmg.org/wordpress/wp-content/uploads/2025/09/Williamsburg-Farmers-Market-2025.jpg
END:VEVENT
BEGIN:VEVENT
DTSTART;TZID=America/New_York:20260509T090000
DTEND;TZID=America/New_York:20260509T120000
DTSTAMP:20260423T054119
CREATED:20260219T200037Z
LAST-MODIFIED:20260308T163011Z
UID:20628-1778317200-1778328000@jccwmg.org
SUMMARY:JCCWMG Annual Plant Sale
DESCRIPTION:James City County Williamsburg Master Gardener Association (JCCWMGA) invites you to our plant sale on Saturday\, May 9\, from 9 a.m. to 12 p.m. at the Williamsburg Botanical Garden (WBG) located within Freedom Park at 5537 Centerville Road\, Williamsburg\, VA 23188.  Free parking is available onsite. \nThe sale offers a broad selection of plants\, including annuals\, perennials\, vegetables\, herbs\, trees\, and shrubs. Much of the plant stock has been raised by our local Master Gardeners. Our Master Gardeners will be available to answer your plant and gardening questions. \nVisit our website for more information about our plant sale.
URL:https://jccwmg.org/wordpress/event/jccwmg-annual-plant-sale/
LOCATION:Freedom Park\, 5537 Centerville Rd\, Williamsburg\, Va\, 23188
CATEGORIES:Annual Plant Sale,New Kent County Farmers Market
ATTACH;FMTTYPE=image/jpeg:https://jccwmg.org/wordpress/wp-content/uploads/2026/01/Plant-Sale-mainstreet.jpg
END:VEVENT
END:VCALENDAR