BEGIN:VCALENDAR
VERSION:2.0
PRODID:-//JCCWilliamsburg Master Gardener Association - ECPv6.15.20//NONSGML v1.0//EN
CALSCALE:GREGORIAN
METHOD:PUBLISH
X-WR-CALNAME:JCCWilliamsburg Master Gardener Association
X-ORIGINAL-URL:https://jccwmg.org/wordpress
X-WR-CALDESC:Events for JCCWilliamsburg Master Gardener Association
REFRESH-INTERVAL;VALUE=DURATION:PT1H
X-Robots-Tag:noindex
X-PUBLISHED-TTL:PT1H
BEGIN:VTIMEZONE
TZID:America/New_York
BEGIN:DAYLIGHT
TZOFFSETFROM:-0500
TZOFFSETTO:-0400
TZNAME:EDT
DTSTART:20240310T070000
END:DAYLIGHT
BEGIN:STANDARD
TZOFFSETFROM:-0400
TZOFFSETTO:-0500
TZNAME:EST
DTSTART:20241103T060000
END:STANDARD
BEGIN:DAYLIGHT
TZOFFSETFROM:-0500
TZOFFSETTO:-0400
TZNAME:EDT
DTSTART:20250309T070000
END:DAYLIGHT
BEGIN:STANDARD
TZOFFSETFROM:-0400
TZOFFSETTO:-0500
TZNAME:EST
DTSTART:20251102T060000
END:STANDARD
BEGIN:DAYLIGHT
TZOFFSETFROM:-0500
TZOFFSETTO:-0400
TZNAME:EDT
DTSTART:20260308T070000
END:DAYLIGHT
BEGIN:STANDARD
TZOFFSETFROM:-0400
TZOFFSETTO:-0500
TZNAME:EST
DTSTART:20261101T060000
END:STANDARD
END:VTIMEZONE
BEGIN:VEVENT
DTSTART;TZID=America/New_York:20250510T090000
DTEND;TZID=America/New_York:20250510T120000
DTSTAMP:20260423T094233
CREATED:20250119T184708Z
LAST-MODIFIED:20250119T193451Z
UID:17673-1746867600-1746878400@jccwmg.org
SUMMARY:JCC Williamsburg Master Gardener Association Annual Plant Sale
DESCRIPTION:We are hosting our Annual Plant Sale on Saturday\, May 10\, from 9 am to noon at the Williamsburg Botanical Garden (WBG) located within Freedom Park at 5537 Centerville Road. This popular sale runs only on Saturday\, May 10\, rain or shine. Admission to the WBG and parking in Freedom Park are both free. The sale offers a wide selection of annuals\, perennials\, vegetables\, herbs\, trees\, and shrubs. Much of the plant stock has been raised by the Master Gardeners themselves.  In addition to plants\, visitors can shop the Green Thumb Market for gently used garden tools\, equipment\, and specialty items to perk up their garden decor. \nSo\, get a good start on this year’s garden by visiting the JCCWMGA Plant Sale! \n“Neighbors Helping Neighbors”
URL:https://jccwmg.org/wordpress/event/jccwmga-annual-plant-sale-2025/
LOCATION:Williamsburg Botanical Garden\, Freedom Park\, 5537 Centerville Rd\, WILLIAMSBURG\, VA\, 23188\, United States
ATTACH;FMTTYPE=image/jpeg:https://jccwmg.org/wordpress/wp-content/uploads/2022/06/Plants-Sale-2-e1688315845370.jpeg
END:VEVENT
END:VCALENDAR