BEGIN:VCALENDAR
VERSION:2.0
PRODID:-//JCCWilliamsburg Master Gardener Association - ECPv6.15.20//NONSGML v1.0//EN
CALSCALE:GREGORIAN
METHOD:PUBLISH
X-ORIGINAL-URL:https://jccwmg.org/wordpress
X-WR-CALDESC:Events for JCCWilliamsburg Master Gardener Association
REFRESH-INTERVAL;VALUE=DURATION:PT1H
X-Robots-Tag:noindex
X-PUBLISHED-TTL:PT1H
BEGIN:VTIMEZONE
TZID:America/New_York
BEGIN:DAYLIGHT
TZOFFSETFROM:-0500
TZOFFSETTO:-0400
TZNAME:EDT
DTSTART:20240310T070000
END:DAYLIGHT
BEGIN:STANDARD
TZOFFSETFROM:-0400
TZOFFSETTO:-0500
TZNAME:EST
DTSTART:20241103T060000
END:STANDARD
BEGIN:DAYLIGHT
TZOFFSETFROM:-0500
TZOFFSETTO:-0400
TZNAME:EDT
DTSTART:20250309T070000
END:DAYLIGHT
BEGIN:STANDARD
TZOFFSETFROM:-0400
TZOFFSETTO:-0500
TZNAME:EST
DTSTART:20251102T060000
END:STANDARD
BEGIN:DAYLIGHT
TZOFFSETFROM:-0500
TZOFFSETTO:-0400
TZNAME:EDT
DTSTART:20260308T070000
END:DAYLIGHT
BEGIN:STANDARD
TZOFFSETFROM:-0400
TZOFFSETTO:-0500
TZNAME:EST
DTSTART:20261101T060000
END:STANDARD
END:VTIMEZONE
BEGIN:VEVENT
DTSTART;TZID=America/New_York:20251011T080000
DTEND;TZID=America/New_York:20251011T120000
DTSTAMP:20260423T030407
CREATED:20250916T154601Z
LAST-MODIFIED:20250916T154737Z
UID:19467-1760169600-1760184000@jccwmg.org
SUMMARY:"Ask A Master Gardener" Williamsburg Farmer's Market
DESCRIPTION:Master Gardeners from the James City County Williamsburg Master Gardeners (JCCWMGA) will be available at the Williamsburg Farmer’s Market to answer your gardening\, yard\, and landscaping questions.  Look for our Master Gardener tent and display to find answers to your perplexing gardening problems\, or stop by to learn more about becoming an Extension Master Gardener.  We will hand out stickers to all the young\,  future master gardeners. \nJCCWMGA is associated with the Virginia Cooperative Extension Program. \n 
URL:https://jccwmg.org/wordpress/event/ask-a-master-gardener-wfm-3/
LOCATION:Williamsburg Farmers Market\, 345 W Duke of Gloucester St\, Williamsburg\, 23185
ATTACH;FMTTYPE=image/jpeg:https://jccwmg.org/wordpress/wp-content/uploads/2025/09/Williamsburg-Farmers-Market-2025.jpg
END:VEVENT
BEGIN:VEVENT
DTSTART;TZID=America/New_York:20251011T080000
DTEND;TZID=America/New_York:20251011T120000
DTSTAMP:20260423T030407
CREATED:20250916T154601Z
LAST-MODIFIED:20250916T154737Z
UID:19467-1760169600-1760184000@jccwmg.org
SUMMARY:"Ask A Master Gardener" Williamsburg Farmer's Market
DESCRIPTION:Master Gardeners from the James City County Williamsburg Master Gardeners (JCCWMGA) will be available at the Williamsburg Farmer’s Market to answer your gardening\, yard\, and landscaping questions.  Look for our Master Gardener tent and display to find answers to your perplexing gardening problems\, or stop by to learn more about becoming an Extension Master Gardener.  We will hand out stickers to all the young\,  future master gardeners. \nJCCWMGA is associated with the Virginia Cooperative Extension Program. \n 
URL:https://jccwmg.org/wordpress/event/ask-a-master-gardener-wfm-3/
LOCATION:Williamsburg Farmers Market\, 345 W Duke of Gloucester St\, Williamsburg\, 23185
ATTACH;FMTTYPE=image/jpeg:https://jccwmg.org/wordpress/wp-content/uploads/2025/09/Williamsburg-Farmers-Market-2025.jpg
END:VEVENT
BEGIN:VEVENT
DTSTART;TZID=America/New_York:20251025T100000
DTEND;TZID=America/New_York:20251025T230000
DTSTAMP:20260423T030407
CREATED:20250825T170134Z
LAST-MODIFIED:20250825T190133Z
UID:19326-1761386400-1761433200@jccwmg.org
SUMMARY:Master Gardener Information Session
DESCRIPTION:Curious About Becoming a Master Gardener?\nJoin us Saturday\, Oct. 25\,  11:00 a.m. at the Williamsburg Regional Library Auditorium for a free information session on becoming a Master Gardener! \n \n✅ Learn what Master Gardeners actually do\n✅ Get details on the 2026 Training Class\n✅ Ask questions\, meet fellow plant lovers\, and get inspired \nWhether you’re a seasoned green thumb or just garden-curious\, this is your chance to dig in and make a difference 🌱 \n \n  \n  \n 
URL:https://jccwmg.org/wordpress/event/master-gardener-information-session/
LOCATION:Williamsburg Regional Library (WRL)\, 515 Scotland St\, WILLIAMSBURG\, VA\, 23185
ATTACH;FMTTYPE=image/jpeg:https://jccwmg.org/wordpress/wp-content/uploads/2025/08/EMG-JCCW.jpg
ORGANIZER;CN="JCCWMGA Training Team":MAILTO:training@jccwmg.org
END:VEVENT
BEGIN:VEVENT
DTSTART;TZID=America/New_York:20251025T130000
DTEND;TZID=America/New_York:20251025T153000
DTSTAMP:20260423T030407
CREATED:20251003T152332Z
LAST-MODIFIED:20251003T152718Z
UID:19750-1761397200-1761406200@jccwmg.org
SUMMARY:Williamsburg Regional Library Plant Share
DESCRIPTION:Do you love plants or want to learn more about how to grow your own?\nJoin the Williamsburg Regional Library for an afternoon of interesting discussions\, gardening information booths from local gardening and naturalist groups and for their Plant Share. \n\n1:00 – 3:30 pm\, Information Tables: Plant and wildlife experts will be available to answer your questions on a variety of plants\, pollinators and other wildlife\, and challenges that gardeners may face. \n1:00 – 2:30 pm\, Donations Accepted for the Fall Plant Share. For those who have extra plants that they’re willing to donate to the Fall Plant Share\, please review the donation guidelines or the signs on the WRL Seed Exchange Cart (JCCL) or the WRL Seed Exchange Card Catalog (WRL) for more information. \n2:00 – 2:45 pm\, Neat Native Plant Gardens that Attract Pollinators Without Violating HOA Rules. Judy Kinshaw-Ellis\, who is a Master Naturalist and a Master Gardener\, will discuss how to grow beautiful pollinator friendly native plant gardens that comply with typical Homeowner’s Association (HOA) rules. \n3:00 pm\, Fall Plant Share. Pick up a free plant (and maybe more)! You do not have to bring plants to participate because members of the community are bringing extra plants to share.
URL:https://jccwmg.org/wordpress/event/williamsburg-regional-library-plant-share/
LOCATION:Williamsburg Regional Library (WRL)\, 515 Scotland St\, WILLIAMSBURG\, VA\, 23185
ATTACH;FMTTYPE=image/png:https://jccwmg.org/wordpress/wp-content/uploads/2025/10/WRL-Logo.png
END:VEVENT
END:VCALENDAR